BEGIN:VCALENDAR
PRODID:-//eluceo/ical//2.0/EN
VERSION:2.0
CALSCALE:GREGORIAN
BEGIN:VEVENT
UID:hey.bayern.330876.6551137
DTSTAMP:20260421T051144Z
SUMMARY:#wearewater-Fest
DTSTART;TZID=Europe/Berlin:20260704T100000
DTEND;TZID=Europe/Berlin:20260704T235959
LOCATION:Thermenstraße 152\, 8282 Bad Loipersdorf\, Österreich
GEO:46.984784;16.111154
X-APPLE-STRUCTURED-LOCATION;VALUE=URI;X-ADDRESS=Thermenstraße 152\, 8282 B
 ad Loipersdorf\, Österreich;X-APPLE-RADIUS=49;X-TITLE=:geo:46.984784,16.1
 11154
URL;VALUE=URI:https://hey-grafing.de/events/330876
END:VEVENT
END:VCALENDAR
