BEGIN:VCALENDAR
PRODID:-//eluceo/ical//2.0/EN
VERSION:2.0
CALSCALE:GREGORIAN
BEGIN:VEVENT
UID:hey.bayern.333377.5223030
DTSTAMP:20260420T225719Z
SUMMARY:Ein Blick in den Braukessel
DTSTART;TZID=Europe/Berlin:20261102T160000
DTEND;TZID=Europe/Berlin:20261102T180000
LOCATION:Goggerwenig 8\, 9300 St. Veit an der Glan\, Österreich
GEO:46.761592;14.401509
X-APPLE-STRUCTURED-LOCATION;VALUE=URI;X-ADDRESS=Goggerwenig 8\, 9300 St. Ve
 it an der Glan\, Österreich;X-APPLE-RADIUS=49;X-TITLE=:geo:46.761592,14.4
 01509
URL;VALUE=URI:https://hey-grafing.de/events/333377
END:VEVENT
END:VCALENDAR
