BEGIN:VCALENDAR
PRODID:-//eluceo/ical//2.0/EN
VERSION:2.0
CALSCALE:GREGORIAN
BEGIN:VEVENT
UID:hey.bayern.336096.6550608
DTSTAMP:20260420T225709Z
SUMMARY:Kellergasslfest Tieschen
DTSTART;TZID=Europe/Berlin:20261004T110000
DTEND;TZID=Europe/Berlin:20261004T235959
URL;VALUE=URI:https://hey-grafing.de/events/336096
END:VEVENT
END:VCALENDAR
