BEGIN:VCALENDAR
PRODID:-//eluceo/ical//2.0/EN
VERSION:2.0
CALSCALE:GREGORIAN
BEGIN:VEVENT
UID:hey.bayern.336309.6553032
DTSTAMP:20260420T204832Z
SUMMARY:Klagenfurter Altstadtlauf
DTSTART;TZID=Europe/Berlin:20260528T170000
DTEND;TZID=Europe/Berlin:20260528T202000
LOCATION:Neuer Platz 1\, 9020 Klagenfurt
GEO:46.624044;14.307250
X-APPLE-STRUCTURED-LOCATION;VALUE=URI;X-ADDRESS=Neuer Platz 1\, 9020 Klagen
 furt;X-APPLE-RADIUS=49;X-TITLE=:geo:46.624044,14.307250
URL;VALUE=URI:https://hey-grafing.de/events/336309
END:VEVENT
END:VCALENDAR
