BEGIN:VCALENDAR
PRODID:-//eluceo/ical//2.0/EN
VERSION:2.0
CALSCALE:GREGORIAN
BEGIN:VEVENT
UID:hey.bayern.341192.6470162
DTSTAMP:20260421T023620Z
SUMMARY:Vulkanlandmarkt
DTSTART;TZID=Europe/Berlin:20261113T160000
DTEND;TZID=Europe/Berlin:20261113T190000
LOCATION:Hauptplatz\, 8344 Bad Gleichenberg\, Österreich
GEO:46.876337;15.909286
X-APPLE-STRUCTURED-LOCATION;VALUE=URI;X-ADDRESS=Hauptplatz\, 8344 Bad Gleic
 henberg\, Österreich;X-APPLE-RADIUS=49;X-TITLE=:geo:46.876337,15.909286
URL;VALUE=URI:https://hey-grafing.de/events/341192
END:VEVENT
END:VCALENDAR
