BEGIN:VCALENDAR
PRODID:-//eluceo/ical//2.0/EN
VERSION:2.0
CALSCALE:GREGORIAN
BEGIN:VEVENT
UID:hey.bayern.341833.6557103
DTSTAMP:20260423T144043Z
SUMMARY:Zeitgeschichte-Führung im Limonistollen
DTSTART;TZID=Europe/Berlin:20261002T160000
DTEND;TZID=Europe/Berlin:20261002T235900
LOCATION:Limonigasse\, 4020 Linz\, Österreich
GEO:48.298842;14.282262
X-APPLE-STRUCTURED-LOCATION;VALUE=URI;X-ADDRESS=Limonigasse\, 4020 Linz\, 
 Österreich;X-APPLE-RADIUS=49;X-TITLE=:geo:48.298842,14.282262
URL;VALUE=URI:https://hey-grafing.de/events/341833
END:VEVENT
END:VCALENDAR
