BEGIN:VCALENDAR
PRODID:-//eluceo/ical//2.0/EN
VERSION:2.0
CALSCALE:GREGORIAN
BEGIN:VEVENT
UID:hey.bayern.366637.6553719
DTSTAMP:20260421T005710Z
SUMMARY:Maiandachten in St. Gilgen
DTSTART;TZID=Europe/Berlin:20260522T140000
DTEND;TZID=Europe/Berlin:20260522T235900
LOCATION:Mondsee Bundesstraße 1a\, 5340 St. Gilgen\, Österreich
GEO:47.769085;13.359343
X-APPLE-STRUCTURED-LOCATION;VALUE=URI;X-ADDRESS=Mondsee Bundesstraße 1a\, 
 5340 St. Gilgen\, Österreich;X-APPLE-RADIUS=49;X-TITLE=:geo:47.769085,13.
 359343
URL;VALUE=URI:https://hey-grafing.de/events/366637
END:VEVENT
END:VCALENDAR
