BEGIN:VCALENDAR
PRODID:-//eluceo/ical//2.0/EN
VERSION:2.0
CALSCALE:GREGORIAN
BEGIN:VEVENT
UID:hey.bayern.400643.6553498
DTSTAMP:20260421T012117Z
SUMMARY:Advent am See 2023
DTSTART;TZID=Europe/Berlin:20261205T110000
DTEND;TZID=Europe/Berlin:20261205T190000
LOCATION:Promenade\, 4863 Seewalchen am Attersee\, Österreich
GEO:47.950595;13.588591
X-APPLE-STRUCTURED-LOCATION;VALUE=URI;X-ADDRESS=Promenade\, 4863 Seewalchen
  am Attersee\, Österreich;X-APPLE-RADIUS=49;X-TITLE=:geo:47.950595,13.588
 591
URL;VALUE=URI:https://hey-grafing.de/events/400643
END:VEVENT
END:VCALENDAR
