BEGIN:VCALENDAR
PRODID:-//eluceo/ical//2.0/EN
VERSION:2.0
CALSCALE:GREGORIAN
BEGIN:VEVENT
UID:hey.bayern.427679.6435750
DTSTAMP:20260421T060923Z
SUMMARY:Laternenwanderung in Klösterle am Arlberg
DTSTART;TZID=Europe/Berlin:20260217T190000
DTEND;TZID=Europe/Berlin:20260217T210000
LOCATION:Bundesstraße 59\, 6754 Klösterle am Arlberg\, Österreich
GEO:47.131329;10.092180
X-APPLE-STRUCTURED-LOCATION;VALUE=URI;X-ADDRESS=Bundesstraße 59\, 6754 Kl
 österle am Arlberg\, Österreich;X-APPLE-RADIUS=49;X-TITLE=:geo:47.131329
 ,10.092180
URL;VALUE=URI:https://hey-grafing.de/events/427679
END:VEVENT
END:VCALENDAR
