BEGIN:VCALENDAR
PRODID:-//eluceo/ical//2.0/EN
VERSION:2.0
CALSCALE:GREGORIAN
BEGIN:VEVENT
UID:hey.bayern.466623.6556640
DTSTAMP:20260423T104048Z
SUMMARY:Klingender Barocksaal
DTSTART;TZID=Europe/Berlin:20260428T190000
DTEND;TZID=Europe/Berlin:20260428T235900
LOCATION:Stiftsplatz 1\, 4582 Spital am Pyhrn\, Österreich
GEO:47.664833;14.339173
X-APPLE-STRUCTURED-LOCATION;VALUE=URI;X-ADDRESS=Stiftsplatz 1\, 4582 Spital
  am Pyhrn\, Österreich;X-APPLE-RADIUS=49;X-TITLE=:geo:47.664833,14.339173
URL;VALUE=URI:https://hey-grafing.de/events/466623
END:VEVENT
END:VCALENDAR
