BEGIN:VCALENDAR
PRODID:-//eluceo/ical//2.0/EN
VERSION:2.0
CALSCALE:GREGORIAN
BEGIN:VEVENT
UID:hey.bayern.471460.6453624
DTSTAMP:20260421T075507Z
SUMMARY:Weinbauernabend im Gartenhotel Ochsenberger
DTSTART;TZID=Europe/Berlin:20260529T190000
DTEND;TZID=Europe/Berlin:20260529T235959
LOCATION:Untere Hauptstraße 181\, 8181 Sankt Ruprecht an der Raab\, Öster
 reich
GEO:47.149724;15.666574
X-APPLE-STRUCTURED-LOCATION;VALUE=URI;X-ADDRESS=Untere Hauptstraße 181\, 8
 181 Sankt Ruprecht an der Raab\, Österreich;X-APPLE-RADIUS=49;X-TITLE=:ge
 o:47.149724,15.666574
URL;VALUE=URI:https://hey-grafing.de/events/471460
END:VEVENT
END:VCALENDAR
