BEGIN:VCALENDAR
PRODID:-//eluceo/ical//2.0/EN
VERSION:2.0
CALSCALE:GREGORIAN
BEGIN:VEVENT
UID:hey.bayern.476771.6550909
DTSTAMP:20260421T213641Z
SUMMARY:Street Food Market Attersee
DTSTART;TZID=Europe/Berlin:20260517T110000
DTEND;TZID=Europe/Berlin:20260517T180000
LOCATION:Nußdorfer Straße 13\, 4864 Attersee am Attersee\, Österreich
GEO:47.913400;13.534200
X-APPLE-STRUCTURED-LOCATION;VALUE=URI;X-ADDRESS=Nußdorfer Straße 13\, 486
 4 Attersee am Attersee\, Österreich;X-APPLE-RADIUS=49;X-TITLE=:geo:47.913
 400,13.534200
URL;VALUE=URI:https://hey-grafing.de/events/476771
END:VEVENT
END:VCALENDAR
