BEGIN:VCALENDAR
PRODID:-//eluceo/ical//2.0/EN
VERSION:2.0
CALSCALE:GREGORIAN
BEGIN:VEVENT
UID:hey.bayern.477798.6550817
DTSTAMP:20260421T030015Z
SUMMARY:Pozillos Ostermarkt
DTSTART;TZID=Europe/Berlin:20270319T090000
DTEND;TZID=Europe/Berlin:20270319T235959
LOCATION:Kirchengasse 1\, 8162 Passail\, Österreich
GEO:47.281885;15.514739
X-APPLE-STRUCTURED-LOCATION;VALUE=URI;X-ADDRESS=Kirchengasse 1\, 8162 Passa
 il\, Österreich;X-APPLE-RADIUS=49;X-TITLE=:geo:47.281885,15.514739
URL;VALUE=URI:https://hey-grafing.de/events/477798
END:VEVENT
END:VCALENDAR
