BEGIN:VCALENDAR
PRODID:-//eluceo/ical//2.0/EN
VERSION:2.0
CALSCALE:GREGORIAN
BEGIN:VEVENT
UID:hey.bayern.484639.6380434
DTSTAMP:20260420T203907Z
SUMMARY:Sol LeWitt's Wall. Performed
DTSTART;TZID=Europe/Berlin:20260502T100000
DTEND;TZID=Europe/Berlin:20260502T160000
LOCATION:Lendkai 1\, 8020 Graz\, Österreich
URL;VALUE=URI:https://hey-grafing.de/events/484639
END:VEVENT
END:VCALENDAR
