BEGIN:VCALENDAR
PRODID:-//eluceo/ical//2.0/EN
VERSION:2.0
CALSCALE:GREGORIAN
BEGIN:VEVENT
UID:hey.bayern.485791.6553048
DTSTAMP:20260421T042602Z
SUMMARY:Mit dem Alpbus zur Alpe Nenzigast - Hinfahrt 12:30 Uhr
DTSTART;TZID=Europe/Berlin:20260810T123000
DTEND;TZID=Europe/Berlin:20260811T123000
LOCATION:Bundesstraße 59\, 6754 Klösterle am Arlberg\, Österreich
GEO:47.104729;10.109168
X-APPLE-STRUCTURED-LOCATION;VALUE=URI;X-ADDRESS=Bundesstraße 59\, 6754 Kl
 österle am Arlberg\, Österreich;X-APPLE-RADIUS=49;X-TITLE=:geo:47.104729
 ,10.109168
URL;VALUE=URI:https://hey-grafing.de/events/485791
END:VEVENT
END:VCALENDAR
