BEGIN:VCALENDAR
PRODID:-//eluceo/ical//2.0/EN
VERSION:2.0
CALSCALE:GREGORIAN
BEGIN:VEVENT
UID:hey.bayern.489890.6550833
DTSTAMP:20260421T120215Z
SUMMARY:Schlosskonzert Musikverein Gestüt Piber
DTSTART;TZID=Europe/Berlin:20260613T180000
DTEND;TZID=Europe/Berlin:20260613T235959
LOCATION:Hüblerweg 16\, 8102 Semriach\, Österreich
GEO:47.079952;15.101159
X-APPLE-STRUCTURED-LOCATION;VALUE=URI;X-ADDRESS=Hüblerweg 16\, 8102 Semria
 ch\, Österreich;X-APPLE-RADIUS=49;X-TITLE=:geo:47.079952,15.101159
URL;VALUE=URI:https://hey-grafing.de/events/489890
END:VEVENT
END:VCALENDAR
