BEGIN:VCALENDAR
PRODID:-//eluceo/ical//2.0/EN
VERSION:2.0
CALSCALE:GREGORIAN
BEGIN:VEVENT
UID:hey.bayern.490319.6550447
DTSTAMP:20260421T030150Z
SUMMARY:Flanieren & RAdieren
DTSTART;TZID=Europe/Berlin:20260904T180000
DTEND;TZID=Europe/Berlin:20260904T235959
LOCATION:Hauptplatz 10\, 8490 Bad Radkersburg\, Österreich
GEO:46.687457;15.986211
X-APPLE-STRUCTURED-LOCATION;VALUE=URI;X-ADDRESS=Hauptplatz 10\, 8490 Bad Ra
 dkersburg\, Österreich;X-APPLE-RADIUS=49;X-TITLE=:geo:46.687457,15.986211
URL;VALUE=URI:https://hey-grafing.de/events/490319
END:VEVENT
END:VCALENDAR
