BEGIN:VCALENDAR
PRODID:-//eluceo/ical//2.0/EN
VERSION:2.0
CALSCALE:GREGORIAN
BEGIN:VEVENT
UID:hey.bayern.499259.6552372
DTSTAMP:20260420T225621Z
SUMMARY:Samba-Festival in Hartberg
DTSTART;TZID=Europe/Berlin:20260815T120000
DTEND;TZID=Europe/Berlin:20260815T235959
URL;VALUE=URI:https://hey-grafing.de/events/499259
END:VEVENT
END:VCALENDAR
