BEGIN:VCALENDAR
PRODID:-//eluceo/ical//2.0/EN
VERSION:2.0
CALSCALE:GREGORIAN
BEGIN:VEVENT
UID:hey.bayern.507468.6550776
DTSTAMP:20260421T030016Z
SUMMARY:Maibaumaufstellen der Feuerwehr Wörth und Bergrettung
DTSTART;TZID=Europe/Berlin:20260430T180000
DTEND;TZID=Europe/Berlin:20260430T235959
LOCATION:Dorfstraße 60a\, 5661 Rauris\, Österreich
GEO:47.193304;12.976603
X-APPLE-STRUCTURED-LOCATION;VALUE=URI;X-ADDRESS=Dorfstraße 60a\, 5661 Raur
 is\, Österreich;X-APPLE-RADIUS=49;X-TITLE=:geo:47.193304,12.976603
URL;VALUE=URI:https://hey-grafing.de/events/507468
END:VEVENT
END:VCALENDAR
