BEGIN:VCALENDAR
PRODID:-//eluceo/ical//2.0/EN
VERSION:2.0
CALSCALE:GREGORIAN
BEGIN:VEVENT
UID:hey.bayern.525705.6548884
DTSTAMP:20260421T030025Z
SUMMARY:Kein Sonntag ohne Techno – Heilige Drei Könige Rave
DTSTART;TZID=Europe/Berlin:20260524T150000
DTEND;TZID=Europe/Berlin:20260524T235959
LOCATION:Schlossbergplatz 1\, 8010 Graz\, Österreich
URL;VALUE=URI:https://hey-grafing.de/events/525705
END:VEVENT
END:VCALENDAR
