BEGIN:VCALENDAR
PRODID:-//eluceo/ical//2.0/EN
VERSION:2.0
CALSCALE:GREGORIAN
BEGIN:VEVENT
UID:hey.bayern.540898.6547530
DTSTAMP:20260420T225707Z
SUMMARY:Food Festival Graz 2025
DTSTART;TZID=Europe/Berlin:20260711T000000
DTEND;TZID=Europe/Berlin:20260711T235959
URL;VALUE=URI:https://hey-grafing.de/events/540898
END:VEVENT
END:VCALENDAR
