BEGIN:VCALENDAR
PRODID:-//eluceo/ical//2.0/EN
VERSION:2.0
CALSCALE:GREGORIAN
BEGIN:VEVENT
UID:hey.bayern.554411.6557218
DTSTAMP:20260424T030650Z
SUMMARY:Alpiner Genussmarkt am Kirchbichl
DTSTART;TZID=Europe/Berlin:20260703T093000
DTEND;TZID=Europe/Berlin:20260703T133000
LOCATION:Kirchplatz 4\, 5710 Kaprun\, Österreich
GEO:47.272507;12.755598
X-APPLE-STRUCTURED-LOCATION;VALUE=URI;X-ADDRESS=Kirchplatz 4\, 5710 Kaprun\
 , Österreich;X-APPLE-RADIUS=49;X-TITLE=:geo:47.272507,12.755598
URL;VALUE=URI:https://hey-grafing.de/events/554411
END:VEVENT
END:VCALENDAR
