BEGIN:VCALENDAR
PRODID:-//eluceo/ical//2.0/EN
VERSION:2.0
CALSCALE:GREGORIAN
BEGIN:VEVENT
UID:hey.bayern.558191.6403571
DTSTAMP:20260421T005718Z
SUMMARY:Zwergerltreff in Passail
DTSTART;TZID=Europe/Berlin:20260113T090000
DTEND;TZID=Europe/Berlin:20260113T235959
URL;VALUE=URI:https://hey-grafing.de/events/558191
END:VEVENT
END:VCALENDAR
