BEGIN:VCALENDAR
PRODID:-//eluceo/ical//2.0/EN
VERSION:2.0
CALSCALE:GREGORIAN
BEGIN:VEVENT
UID:hey.bayern.562979.6553410
DTSTAMP:20260420T225659Z
SUMMARY:Tages-Busfahrt: Ljubljana-Die grüne Hauptstadt Sloweniens
DTSTART;TZID=Europe/Berlin:20260922T094000
DTEND;TZID=Europe/Berlin:20260923T094000
URL;VALUE=URI:https://hey-grafing.de/events/562979
END:VEVENT
END:VCALENDAR
