BEGIN:VCALENDAR
PRODID:-//eluceo/ical//2.0/EN
VERSION:2.0
CALSCALE:GREGORIAN
BEGIN:VEVENT
UID:hey.bayern.562979.6553415
DTSTAMP:20260420T225647Z
SUMMARY:Tages-Busfahrt: Ljubljana-Die grüne Hauptstadt Sloweniens
DTSTART;TZID=Europe/Berlin:20261027T094000
DTEND;TZID=Europe/Berlin:20261028T094000
URL;VALUE=URI:https://hey-grafing.de/events/562979
END:VEVENT
END:VCALENDAR
