BEGIN:VCALENDAR
PRODID:-//eluceo/ical//2.0/EN
VERSION:2.0
CALSCALE:GREGORIAN
BEGIN:VEVENT
UID:hey.bayern.563215.6553430
DTSTAMP:20260420T225650Z
SUMMARY:Naturerlebnis Tscheppaschlucht
DTSTART;TZID=Europe/Berlin:20260918T091500
DTEND;TZID=Europe/Berlin:20260919T091500
URL;VALUE=URI:https://hey-grafing.de/events/563215
END:VEVENT
END:VCALENDAR
