BEGIN:VCALENDAR
PRODID:-//eluceo/ical//2.0/EN
VERSION:2.0
CALSCALE:GREGORIAN
BEGIN:VEVENT
UID:hey.bayern.563215.6553434
DTSTAMP:20260420T225645Z
SUMMARY:Naturerlebnis Tscheppaschlucht
DTSTART;TZID=Europe/Berlin:20261016T091500
DTEND;TZID=Europe/Berlin:20261017T091500
URL;VALUE=URI:https://hey-grafing.de/events/563215
END:VEVENT
END:VCALENDAR
