BEGIN:VCALENDAR
PRODID:-//eluceo/ical//2.0/EN
VERSION:2.0
CALSCALE:GREGORIAN
BEGIN:VEVENT
UID:hey.bayern.563216.6553437
DTSTAMP:20260420T225659Z
SUMMARY:Naturerlebnis Tscheppaschlucht
DTSTART;TZID=Europe/Berlin:20260918T094000
DTEND;TZID=Europe/Berlin:20260919T094000
URL;VALUE=URI:https://hey-grafing.de/events/563216
END:VEVENT
END:VCALENDAR
