BEGIN:VCALENDAR
PRODID:-//eluceo/ical//2.0/EN
VERSION:2.0
CALSCALE:GREGORIAN
BEGIN:VEVENT
UID:hey.bayern.563218.6553454
DTSTAMP:20260420T225702Z
SUMMARY:Naturerlebnis Tscheppaschlucht
DTSTART;TZID=Europe/Berlin:20261009T100000
DTEND;TZID=Europe/Berlin:20261010T100000
URL;VALUE=URI:https://hey-grafing.de/events/563218
END:VEVENT
END:VCALENDAR
