BEGIN:VCALENDAR
PRODID:-//eluceo/ical//2.0/EN
VERSION:2.0
CALSCALE:GREGORIAN
BEGIN:VEVENT
UID:hey.bayern.570713.6553938
DTSTAMP:20260421T032138Z
SUMMARY:Tag der offenen Tür bei Anita´s Mineralien & Heilsteine
DTSTART;TZID=Europe/Berlin:20260503T090000
DTEND;TZID=Europe/Berlin:20260503T170000
LOCATION:Lohened 53\, 4880 St. Georgen im Attergau\, Österreich
GEO:47.921811;13.488566
X-APPLE-STRUCTURED-LOCATION;VALUE=URI;X-ADDRESS=Lohened 53\, 4880 St. Georg
 en im Attergau\, Österreich;X-APPLE-RADIUS=49;X-TITLE=:geo:47.921811,13.4
 88566
URL;VALUE=URI:https://hey-grafing.de/events/570713
END:VEVENT
END:VCALENDAR
