BEGIN:VCALENDAR
PRODID:-//eluceo/ical//2.0/EN
VERSION:2.0
CALSCALE:GREGORIAN
BEGIN:VEVENT
UID:hey.bayern.572101.6553669
DTSTAMP:20260421T030022Z
SUMMARY:Bittgang auf den Falkenstein
DTSTART;TZID=Europe/Berlin:20260501T080000
DTEND;TZID=Europe/Berlin:20260501T235900
LOCATION:Kirchenplatz 1\, 5340 St. Gilgen\, Österreich
GEO:47.766731;13.365310
X-APPLE-STRUCTURED-LOCATION;VALUE=URI;X-ADDRESS=Kirchenplatz 1\, 5340 St. G
 ilgen\, Österreich;X-APPLE-RADIUS=49;X-TITLE=:geo:47.766731,13.365310
URL;VALUE=URI:https://hey-grafing.de/events/572101
END:VEVENT
END:VCALENDAR
