BEGIN:VCALENDAR
PRODID:-//eluceo/ical//2.0/EN
VERSION:2.0
CALSCALE:GREGORIAN
BEGIN:VEVENT
UID:hey.bayern.574650.5301251
DTSTAMP:20260421T060920Z
SUMMARY:Gymnastik für Jedermann (-frau)
DTSTART;TZID=Europe/Berlin:20251125T190000
DTEND;TZID=Europe/Berlin:20251125T200000
LOCATION:Flurstraße 5\, 87538 Bolsterlang
GEO:47.461949;10.237100
X-APPLE-STRUCTURED-LOCATION;VALUE=URI;X-ADDRESS=Flurstraße 5\, 87538 Bolst
 erlang;X-APPLE-RADIUS=49;X-TITLE=:geo:47.461949,10.237100
URL;VALUE=URI:https://hey-grafing.de/events/574650
END:VEVENT
END:VCALENDAR
