BEGIN:VCALENDAR
PRODID:-//eluceo/ical//2.0/EN
VERSION:2.0
CALSCALE:GREGORIAN
BEGIN:VEVENT
UID:hey.bayern.575328.6547440
DTSTAMP:20260421T030013Z
SUMMARY:Pavelhaus Chor & Freunde
DTSTART;TZID=Europe/Berlin:20260612T180000
DTEND;TZID=Europe/Berlin:20260612T235959
LOCATION:Laafeld 30\, 8490 Bad Radkersburg\, Österreich
GEO:46.688186;16.004593
X-APPLE-STRUCTURED-LOCATION;VALUE=URI;X-ADDRESS=Laafeld 30\, 8490 Bad Radke
 rsburg\, Österreich;X-APPLE-RADIUS=49;X-TITLE=:geo:46.688186,16.004593
URL;VALUE=URI:https://hey-grafing.de/events/575328
END:VEVENT
END:VCALENDAR
