BEGIN:VCALENDAR
PRODID:-//eluceo/ical//2.0/EN
VERSION:2.0
CALSCALE:GREGORIAN
BEGIN:VEVENT
UID:hey.bayern.581629.6551117
DTSTAMP:20260421T003607Z
SUMMARY:Die Flößerei- Yoga am SUP
DTSTART;TZID=Europe/Berlin:20260509T140000
DTEND;TZID=Europe/Berlin:20260509T235959
LOCATION:Stadtstrand\, 8041 Graz\, Österreich
GEO:47.046757;15.441880
X-APPLE-STRUCTURED-LOCATION;VALUE=URI;X-ADDRESS=Stadtstrand\, 8041 Graz\, 
 Österreich;X-APPLE-RADIUS=49;X-TITLE=:geo:47.046757,15.441880
URL;VALUE=URI:https://hey-grafing.de/events/581629
END:VEVENT
END:VCALENDAR
