BEGIN:VCALENDAR
PRODID:-//eluceo/ical//2.0/EN
VERSION:2.0
CALSCALE:GREGORIAN
BEGIN:VEVENT
UID:hey.bayern.586868.6552946
DTSTAMP:20260421T070331Z
SUMMARY:Dienstagabend im Mariendom
DTSTART;TZID=Europe/Berlin:20260512T193000
DTEND;TZID=Europe/Berlin:20260512T235900
LOCATION:Domplatz 1\, 4020 Linz\, Österreich
GEO:48.300228;14.286020
X-APPLE-STRUCTURED-LOCATION;VALUE=URI;X-ADDRESS=Domplatz 1\, 4020 Linz\, Ö
 sterreich;X-APPLE-RADIUS=49;X-TITLE=:geo:48.300228,14.286020
URL;VALUE=URI:https://hey-grafing.de/events/586868
END:VEVENT
END:VCALENDAR
