BEGIN:VCALENDAR
PRODID:-//eluceo/ical//2.0/EN
VERSION:2.0
CALSCALE:GREGORIAN
BEGIN:VEVENT
UID:hey.bayern.592570.6551001
DTSTAMP:20260420T223811Z
SUMMARY:Vollmond-Paddeln auf der Mur
DTSTART;TZID=Europe/Berlin:20260926T203000
DTEND;TZID=Europe/Berlin:20260926T235959
LOCATION:Stadtstrand\, 8041 Graz\, Österreich
GEO:47.046953;15.442995
X-APPLE-STRUCTURED-LOCATION;VALUE=URI;X-ADDRESS=Stadtstrand\, 8041 Graz\, 
 Österreich;X-APPLE-RADIUS=49;X-TITLE=:geo:47.046953,15.442995
URL;VALUE=URI:https://hey-grafing.de/events/592570
END:VEVENT
END:VCALENDAR
