BEGIN:VCALENDAR
PRODID:-//eluceo/ical//2.0/EN
VERSION:2.0
CALSCALE:GREGORIAN
BEGIN:VEVENT
UID:hey.bayern.612021.6552588
DTSTAMP:20260420T225637Z
SUMMARY:Tages-Busfahrt: Triest - Schmelztiegel von Kulturen und Religionen
DTSTART;TZID=Europe/Berlin:20261015T071000
DTEND;TZID=Europe/Berlin:20261016T071000
URL;VALUE=URI:https://hey-grafing.de/events/612021
END:VEVENT
END:VCALENDAR
