BEGIN:VCALENDAR
PRODID:-//eluceo/ical//2.0/EN
VERSION:2.0
CALSCALE:GREGORIAN
BEGIN:VEVENT
UID:hey.bayern.656913.6155889
DTSTAMP:20260421T075350Z
SUMMARY:Fest am Weinberg
DTSTART;TZID=Europe/Berlin:20260530T173000
DTEND;TZID=Europe/Berlin:20260530T235959
URL;VALUE=URI:https://hey-grafing.de/events/656913
END:VEVENT
END:VCALENDAR
