BEGIN:VCALENDAR
PRODID:-//eluceo/ical//2.0/EN
VERSION:2.0
CALSCALE:GREGORIAN
BEGIN:VEVENT
UID:hey.bayern.659140.6190725
DTSTAMP:20260420T211026Z
SUMMARY:Flow to Yin - Yogaeinheit
DTSTART;TZID=Europe/Berlin:20261130T173000
DTEND;TZID=Europe/Berlin:20261130T183000
LOCATION:6100 Seefeld in Tirol\, Österreich
GEO:47.329180;11.186840
X-APPLE-STRUCTURED-LOCATION;VALUE=URI;X-ADDRESS=6100 Seefeld in Tirol\, Ös
 terreich;X-APPLE-RADIUS=49;X-TITLE=:geo:47.329180,11.186840
URL;VALUE=URI:https://hey-grafing.de/events/659140
END:VEVENT
END:VCALENDAR
