BEGIN:VCALENDAR
PRODID:-//eluceo/ical//2.0/EN
VERSION:2.0
CALSCALE:GREGORIAN
BEGIN:VEVENT
UID:hey.bayern.660402.6556564
DTSTAMP:20260424T085334Z
SUMMARY:Hochkönig Ultraks
DTSTART;TZID=Europe/Berlin:20260606T110000
DTEND;TZID=Europe/Berlin:20260608T110000
LOCATION:Am Gemeindeplatz 7\, 5761 Maria Alm am Steinernen Meer\, Österrei
 ch
URL;VALUE=URI:https://hey-grafing.de/events/660402
END:VEVENT
END:VCALENDAR
