BEGIN:VCALENDAR
PRODID:-//eluceo/ical//2.0/EN
VERSION:2.0
CALSCALE:GREGORIAN
BEGIN:VEVENT
UID:hey.bayern.669326.6342142
DTSTAMP:20260424T074817Z
SUMMARY:Generalversammlung DJK Seifriedsberg
DTSTART;TZID=Europe/Berlin:20250404T200000
DTEND;TZID=Europe/Berlin:20250405T200000
LOCATION:Illerstraße 43\, 87544 Bihlerdorf
GEO:47.528540;10.258570
X-APPLE-STRUCTURED-LOCATION;VALUE=URI;X-ADDRESS=Illerstraße 43\, 87544 Bih
 lerdorf;X-APPLE-RADIUS=49;X-TITLE=:geo:47.528540,10.258570
URL;VALUE=URI:https://hey-grafing.de/events/669326
END:VEVENT
END:VCALENDAR
