BEGIN:VCALENDAR
PRODID:-//eluceo/ical//2.0/EN
VERSION:2.0
CALSCALE:GREGORIAN
BEGIN:VEVENT
UID:hey.bayern.669908.6553674
DTSTAMP:20260422T071019Z
SUMMARY:DEKADENZ UND DOPPELMORAL - Attergauer Kultursommer 2026
DTSTART;TZID=Europe/Berlin:20260812T200000
DTEND;TZID=Europe/Berlin:20260813T000000
LOCATION:Kronberg 65\, 4881 Straß im Attergau\, Österreich
GEO:47.905381;13.481833
X-APPLE-STRUCTURED-LOCATION;VALUE=URI;X-ADDRESS=Kronberg 65\, 4881 Straß i
 m Attergau\, Österreich;X-APPLE-RADIUS=49;X-TITLE=:geo:47.905381,13.48183
 3
URL;VALUE=URI:https://hey-grafing.de/events/669908
END:VEVENT
END:VCALENDAR
