BEGIN:VCALENDAR
PRODID:-//eluceo/ical//2.0/EN
VERSION:2.0
CALSCALE:GREGORIAN
BEGIN:VEVENT
UID:hey.bayern.671782.6376651
DTSTAMP:20260421T123439Z
SUMMARY:Circlesong-Session
DTSTART;TZID=Europe/Berlin:20260502T200000
DTEND;TZID=Europe/Berlin:20260502T210000
LOCATION:Oberer Schrannenplat z\, 88131 Lindau (Bodensee)
GEO:47.550753;9.692662
X-APPLE-STRUCTURED-LOCATION;VALUE=URI;X-ADDRESS=Oberer Schrannenplat z\, 88
 131 Lindau (Bodensee);X-APPLE-RADIUS=49;X-TITLE=:geo:47.550753,9.692662
URL;VALUE=URI:https://hey-grafing.de/events/671782
END:VEVENT
END:VCALENDAR
