BEGIN:VCALENDAR
PRODID:-//eluceo/ical//2.0/EN
VERSION:2.0
CALSCALE:GREGORIAN
BEGIN:VEVENT
UID:hey.bayern.672876.6552780
DTSTAMP:20260421T045237Z
SUMMARY:Babycafé
DTSTART;TZID=Europe/Berlin:20260514T090000
DTEND;TZID=Europe/Berlin:20260514T110000
LOCATION:6380 St. Johann in Tirol\, Österreich
GEO:47.522810;12.423220
X-APPLE-STRUCTURED-LOCATION;VALUE=URI;X-ADDRESS=6380 St. Johann in Tirol\, 
 Österreich;X-APPLE-RADIUS=49;X-TITLE=:geo:47.522810,12.423220
URL;VALUE=URI:https://hey-grafing.de/events/672876
END:VEVENT
END:VCALENDAR
