BEGIN:VCALENDAR
PRODID:-//eluceo/ical//2.0/EN
VERSION:2.0
CALSCALE:GREGORIAN
BEGIN:VEVENT
UID:hey.bayern.673386.6390946
DTSTAMP:20260421T042557Z
SUMMARY:Schmugglertour hautnah erleben in Ischgl - Skifahrer
DTSTART;TZID=Europe/Berlin:20260106T093000
DTEND;TZID=Europe/Berlin:20260106T153000
LOCATION:6561 Ischgl\, Österreich
GEO:47.011760;10.293400
X-APPLE-STRUCTURED-LOCATION;VALUE=URI;X-ADDRESS=6561 Ischgl\, Österreich;X
 -APPLE-RADIUS=49;X-TITLE=:geo:47.011760,10.293400
URL;VALUE=URI:https://hey-grafing.de/events/673386
END:VEVENT
END:VCALENDAR
