BEGIN:VCALENDAR
PRODID:-//eluceo/ical//2.0/EN
VERSION:2.0
CALSCALE:GREGORIAN
BEGIN:VEVENT
UID:hey.bayern.673419.6391283
DTSTAMP:20260421T042556Z
SUMMARY:Skitouren Schnupperkurs Klassik in Ischgl
DTSTART;TZID=Europe/Berlin:20251216T090000
DTEND;TZID=Europe/Berlin:20251216T130000
LOCATION:6561 Ischgl\, Österreich
GEO:46.982560;10.318560
X-APPLE-STRUCTURED-LOCATION;VALUE=URI;X-ADDRESS=6561 Ischgl\, Österreich;X
 -APPLE-RADIUS=49;X-TITLE=:geo:46.982560,10.318560
URL;VALUE=URI:https://hey-grafing.de/events/673419
END:VEVENT
END:VCALENDAR
