BEGIN:VCALENDAR
PRODID:-//eluceo/ical//2.0/EN
VERSION:2.0
CALSCALE:GREGORIAN
BEGIN:VEVENT
UID:hey.bayern.673996.6549471
DTSTAMP:20260421T084603Z
SUMMARY:Muttertagskonzert in Kirchberg/Raab
DTSTART;TZID=Europe/Berlin:20260509T190000
DTEND;TZID=Europe/Berlin:20260509T235959
LOCATION:Kirchberg an der Raab 121\, 8324 Kirchberg an der Raab\, Österrei
 ch
URL;VALUE=URI:https://hey-grafing.de/events/673996
END:VEVENT
END:VCALENDAR
