BEGIN:VCALENDAR
PRODID:-//eluceo/ical//2.0/EN
VERSION:2.0
CALSCALE:GREGORIAN
BEGIN:VEVENT
UID:hey.bayern.676714.6547116
DTSTAMP:20260421T045233Z
SUMMARY:Klimt-Mahlerschiff Genussfahrten
DTSTART;TZID=Europe/Berlin:20260528T190000
DTEND;TZID=Europe/Berlin:20260528T213000
LOCATION:Landungsplatz\, 4864 Attersee am Attersee\, Österreich
GEO:47.914688;13.538695
X-APPLE-STRUCTURED-LOCATION;VALUE=URI;X-ADDRESS=Landungsplatz\, 4864 Atters
 ee am Attersee\, Österreich;X-APPLE-RADIUS=49;X-TITLE=:geo:47.914688,13.5
 38695
URL;VALUE=URI:https://hey-grafing.de/events/676714
END:VEVENT
END:VCALENDAR
