BEGIN:VCALENDAR
PRODID:-//eluceo/ical//2.0/EN
VERSION:2.0
CALSCALE:GREGORIAN
BEGIN:VEVENT
UID:hey.bayern.683932.6505286
DTSTAMP:20260420T204918Z
SUMMARY:Überblicksführung "Regina Hübner. Dear ..."
DTSTART;TZID=Europe/Berlin:20260316T110000
DTEND;TZID=Europe/Berlin:20260316T120000
LOCATION:Burggasse 8\, 9020 Klagenfurt am Wörthersee\, Österreich
GEO:46.624068;14.310366
X-APPLE-STRUCTURED-LOCATION;VALUE=URI;X-ADDRESS=Burggasse 8\, 9020 Klagenfu
 rt am Wörthersee\, Österreich;X-APPLE-RADIUS=49;X-TITLE=:geo:46.624068,1
 4.310366
URL;VALUE=URI:https://hey-grafing.de/events/683932
END:VEVENT
END:VCALENDAR
