BEGIN:VCALENDAR
PRODID:-//eluceo/ical//2.0/EN
VERSION:2.0
CALSCALE:GREGORIAN
BEGIN:VEVENT
UID:hey.bayern.684016.6468445
DTSTAMP:20260421T123440Z
SUMMARY:Verbindung statt Korrektur – Demenz im Alltag begleiten
DTSTART;TZID=Europe/Berlin:20260509T100000
DTEND;TZID=Europe/Berlin:20260509T120000
LOCATION:Gstäudweg 18a\, 88131 Lindau (Bodensee)
GEO:47.566754;9.690597
X-APPLE-STRUCTURED-LOCATION;VALUE=URI;X-ADDRESS=Gstäudweg 18a\, 88131 Lind
 au (Bodensee);X-APPLE-RADIUS=49;X-TITLE=:geo:47.566754,9.690597
URL;VALUE=URI:https://hey-grafing.de/events/684016
END:VEVENT
END:VCALENDAR
